
BEGIN:VCALENDAR
VERSION:2.0
PRODID:-//eventon.com NONSGML v1.0//EN
BEGIN:VEVENT
UID:69e5e3ec32edc
DTSTAMP:20260420T102932
DTSTART:20231216T213000Z
DTEND:20231216T230000Z
TZID:Pacific/Midway
LOCATION:
SUMMARY:Et moi\,  j'en pense quoi ?
DESCRIPTION: “Et moi\,  j’en pense quoi ?”\,   un atelier\,  proposé un samedi par mois de 10h30h à 12h : Le samedi 16 décembre : C&#8217;est quoi avoir une famille ? Apprendre\,  pourquoi faire ? Comment on apprend ? Est ce qu’on est obligé d’apprendre ? Venez partager un temps en famille[..]\nhttps://solleio.fr/events/et-moi-jen-pense-quoi-6/
URL:https://solleio.fr/events/et-moi-jen-pense-quoi-6/
END:VEVENT
END:VCALENDAR