
BEGIN:VCALENDAR
VERSION:2.0
PRODID:-//eventon.com NONSGML v1.0//EN
BEGIN:VEVENT
UID:69e75e9d4d62b
DTSTAMP:20260421T132517
DTSTART:20231201T060000Z
DTEND:20231201T080000Z
TZID:Pacific/Midway
LOCATION:
SUMMARY:Tout part de soi
DESCRIPTION: TOUT PART DE SOI Détails de l&#8217;événement Prendre un temps pour soi. Ce cycle de 3 ateliers sur trois jeudi\,  animé par Marine Bertin\,  ouvre un espace  destiné à accueillir la parole des parents qui le souhaitent. Thèmes  : Jeudi 16 novembre : Qui suis-je ? Jeudi 23 novembre :[..]\nhttps://solleio.fr/events/tout-part-de-soi-3/
URL:https://solleio.fr/events/tout-part-de-soi-3/
END:VEVENT
END:VCALENDAR