
BEGIN:VCALENDAR
VERSION:2.0
PRODID:-//eventon.com NONSGML v1.0//EN
BEGIN:VEVENT
UID:69ed50c58aaa7
DTSTAMP:20260426T013949
DTSTART:20231009T093000Z
DTEND:20231009T100000Z
TZID:Europe/Paris
LOCATION:Sollei&#039;O 1631 Route de Valaury  83210 Sollies-Toucas
SUMMARY:Cycle parentalité de 8 ateliers
DESCRIPTION: Bienvenue à ce cycle parentalité\,  composé de 8 ateliers thématiques destinés à toute personne occupant un rôle parental ! Il vous permettra d&#8217;approfondir vos compétences\,  cultiver le plaisir d’être en famille et explorer un accompagnement bienveillant et créatif des enfants. Intervenante : Marion Launay\,  Educatrice Montessori – Consultante en parentalité[..]\nhttps://solleio.fr/events/cycle-parentalite-de-8-ateliers/
URL:https://solleio.fr/events/cycle-parentalite-de-8-ateliers/
END:VEVENT
END:VCALENDAR