
BEGIN:VCALENDAR
VERSION:2.0
PRODID:-//eventon.com NONSGML v1.0//EN
BEGIN:VEVENT
UID:69e6d503b18ad
DTSTAMP:20260421T033811
DTSTART:20220619T213000Z
DTEND:20220619T223000Z
TZID:Pacific/Midway
LOCATION:
SUMMARY:Spectacle "Super héros zéro déchet"
DESCRIPTION: Nous vous proposons un spectacle interactif pour tous\,  « Super héros zéro déchet&#8221; » présenté par Art et Aurelia Magie\,  Danse\,  Acrobatie\,  Musique\,  Jonglerie et Comédie rythmeront ce spectacle interactif pour petits hommes et grand enfants. L&#8217;occasion de partager un moment de magie\,  de musique\,  de jonglerie. Pour s&#8217;inscrire :[..]\nhttps://solleio.fr/events/spectacle-super-heros-zeros-dechet/
URL:https://solleio.fr/events/spectacle-super-heros-zeros-dechet/
END:VEVENT
END:VCALENDAR