
BEGIN:VCALENDAR
VERSION:2.0
PRODID:-//eventon.com NONSGML v1.0//EN
BEGIN:VEVENT
UID:69e5e3ec32e6a
DTSTAMP:20260420T102932
DTSTART:20220709T070000Z
DTEND:20220709T153000Z
TZID:Europe/Paris
LOCATION:Sollei&#039;O 1631 Route de Valaury  83210 Sollies-Toucas
SUMMARY:Vivre et grandir ensemble
DESCRIPTION: Nous proposons un cycle &#8220;vivre et grandir ensemble &#8220; cet été\,  avec une organisation regroupant les 8 ateliers sur deux week ends  Les participants s&#8217;engagent sur 4 jours soit 2 week end DATES : Engagement  sur les 2 week ends\,  samedi 9 et dimanche 10 juillet puis samedi 23 et[..]\nhttps://solleio.fr/events/vivre-et-grandir-ensemble-avril/
URL:https://solleio.fr/events/vivre-et-grandir-ensemble-avril/
END:VEVENT
END:VCALENDAR