
BEGIN:VCALENDAR
VERSION:2.0
PRODID:-//eventon.com NONSGML v1.0//EN
BEGIN:VEVENT
UID:69eafd5e400ac
DTSTAMP:20260424T071926
DTSTART:20220612T000000Z
DTEND:20220612T050000Z
TZID:Pacific/Midway
LOCATION:
SUMMARY:Répar'électro
DESCRIPTION: RÉPARER PLUTÔT QUE JETER En savoir plus et lire l&#8217;article Bien souvent\,  lorsque que l’un de nos appareils tombe en panne\,  la solution la plus simple est\,  d’en acheter un nouveau et de jeter l’ancien. Le répar élèctro est une innovation sociale importante\,  répondant à plusieurs besoins et attentes actuels de[..]\nhttps://solleio.fr/events/reparelectro-7/
URL:https://solleio.fr/events/reparelectro-7/
END:VEVENT
END:VCALENDAR