
BEGIN:VCALENDAR
VERSION:2.0
PRODID:-//eventon.com NONSGML v1.0//EN
BEGIN:VEVENT
UID:69e5e4589a2ba
DTSTAMP:20260420T103120
DTSTART:20211205T000000Z
DTEND:20211205T050000Z
TZID:Pacific/Midway
LOCATION:
SUMMARY:Répar'électro
DESCRIPTION: REPARER PLUTOT QUE JETER En savoir plus et lire l&#8217;article Bien souvent\,  lorsque que l’un de nos appareils tombe en panne\,  la solution la plus simple est\,  d’en acheter un nouveau et de jeter l’ancien. Le répar élèctro est une innovation sociale importante\,  répondant à plusieurs besoins et attentes actuels de[..]\nhttps://solleio.fr/events/reparelectro/
URL:https://solleio.fr/events/reparelectro/
END:VEVENT
END:VCALENDAR